2.43840000
0.00000000
0.00000000
-2.43840000
427348.22695790
3402722.03015712
