2.43840000
0.00000000
0.00000000
-2.43840000
617942.08735986
3486423.96079896
