2.43840000
0.00000000
0.00000000
-2.43840000
629640.31471196
3500436.61286216
