2.438400000000
0.000000000000
0.000000000000
-2.438400000000
404506.213066412020
3527602.706826797700
