2.438400000000
0.000000000000
0.000000000000
-2.438400000000
510933.676234477840
3638035.830013826500
