2.438400000000
0.000000000000
0.000000000000
-2.438400000000
440674.378036359674
3638182.801524194420
