2.400
0.000
0.000
-2.400
510868.030
3665754.080
