2.400
0.000
0.000
-2.400
499066.430
3762743.730
