2.400
0.000
0.000
-2.400
452407.170
3665881.540
