2.400
0.000
0.000
-2.400
417330.390
3666041.300
