2.400
0.000
0.000
-2.400
405868.270
3680039.030
