2.400
0.000
0.000
-2.400
510544.480
3790461.100
