2.400
0.000
0.000
-2.400
568030.480
3804679.690
