2.400
0.000
0.000
-2.400
429993.360
3804585.250
