2.400
0.000
0.000
-2.400
476119.940
3845899.500
