2.400
0.000
0.000
-2.400
430245.200
3860004.310
