2.400
0.000
0.000
-2.400
395191.140
3777157.600
