2.400
0.000
0.000
-2.400
395272.380
3791021.660
