2.438400
0.000000
0.000000
-2.438400
615268.676314
3721994.602362
