2.438400
0.000000
0.000000
-2.438400
545649.525275
3735187.705716
