2.438400
0.000000
0.000000
-2.438400
557069.216354
3749129.368577
