2.43840000
0.00000000
0.00000000
-2.43840000
395021.79784801
3749441.71728864
