2.438400
0.000000
0.000000
-2.438400
591539.975669
3777162.368036
