2.438400
0.000000
0.000000
-2.438400
659345.595437
3847499.587783
