2.438400
0.000000
0.000000
-2.438400
522011.991723
3873697.190398
