2.438400
0.000000
0.000000
-2.438400
453237.454388
3790603.003027
