2.43840000
0.00000000
0.00000000
-2.43840000
395936.94128168
3832608.54741015
