2.43840000
0.00000000
0.00000000
-2.43840000
384802.33807030
3860469.03083070
