2.39999999999999990
0.00000000000000000
0.00000000000000000
-2.39999999999999990
715320.67000000004000000
3890347.29999999980000000
