2.39999999999997550
0.00000000000000000
0.00000000000000000
-2.39999999999997330
714102.21999999997000000
3945865.87000000010000000
