2.438400
0.000000
0.000000
-2.438400
521767.578199
3956865.990165
