2.438400
0.000000
0.000000
-2.438400
453587.119185
3887545.795636
