2.438400
0.000000
0.000000
-2.438400
464794.605523
3901423.590894
