2.438400
0.000000
0.000000
-2.438400
408217.778916
3901806.470894
