2.438400
0.000000
0.000000
-2.438400
465213.570370
3929101.805955
