2.438400
0.000000
0.000000
-2.438400
419884.120840
3943286.829011
