2.438400
0.000000
0.000000
-2.438400
408971.881534
3998809.538383
