2.438400
0.000000
0.000000
-2.438400
420473.467157
4026360.599108
