2.43840000
0.00000000
0.00000000
-2.43840000
364226.20160278
4013295.83302482
