2.43840000
0.00000000
0.00000000
-2.43840000
546721.47913584
3485767.88793940
