2.43840000
0.00000000
0.00000000
-2.43840000
640534.72404940
3569892.23938404
