2.43840000
0.00000000
0.00000000
-2.43840000
546207.61424849
3596608.80383951
