2.43840000
0.00000000
0.00000000
-2.43840000
581321.07951145
3610738.09440878
