2.4384
0
0
-2.4384
638045.56004
3750014.192147
