2.4384
0
0
-2.4384
660873.153156
3764296.265115
