2.4384
0
0
-2.4384
649393.693365
3764085.374732
