2.4384
0
0
-2.4384
394120.326186
3666286.911779
