2.4384
0
0
-2.4384
370759.53519
3666566.87941
