2.4384
0
0
-2.4384
221691.093135
3766805.587773
