2.4384
0
0
-2.4384
742733.8963800001
3724559.703168
